BEGIN:VCALENDAR
VERSION:2.0
PRODID:-//Amicale cyclo plescopaise - ECPv6.15.20//NONSGML v1.0//EN
CALSCALE:GREGORIAN
METHOD:PUBLISH
X-ORIGINAL-URL:https://cyclo-plescop.fr
X-WR-CALDESC:Évènements pour Amicale cyclo plescopaise
REFRESH-INTERVAL;VALUE=DURATION:PT1H
X-Robots-Tag:noindex
X-PUBLISHED-TTL:PT1H
BEGIN:VTIMEZONE
TZID:Europe/Paris
BEGIN:DAYLIGHT
TZOFFSETFROM:+0100
TZOFFSETTO:+0200
TZNAME:CEST
DTSTART:20240331T010000
END:DAYLIGHT
BEGIN:STANDARD
TZOFFSETFROM:+0200
TZOFFSETTO:+0100
TZNAME:CET
DTSTART:20241027T010000
END:STANDARD
BEGIN:DAYLIGHT
TZOFFSETFROM:+0100
TZOFFSETTO:+0200
TZNAME:CEST
DTSTART:20250330T010000
END:DAYLIGHT
BEGIN:STANDARD
TZOFFSETFROM:+0200
TZOFFSETTO:+0100
TZNAME:CET
DTSTART:20251026T010000
END:STANDARD
BEGIN:DAYLIGHT
TZOFFSETFROM:+0100
TZOFFSETTO:+0200
TZNAME:CEST
DTSTART:20260329T010000
END:DAYLIGHT
BEGIN:STANDARD
TZOFFSETFROM:+0200
TZOFFSETTO:+0100
TZNAME:CET
DTSTART:20261025T010000
END:STANDARD
END:VTIMEZONE
BEGIN:VEVENT
DTSTART;TZID=Europe/Paris:20250125T143000
DTEND;TZID=Europe/Paris:20250125T170000
DTSTAMP:20260424T192717
CREATED:20250112T162905Z
LAST-MODIFIED:20250505T075218Z
UID:439-1737815400-1737824400@cyclo-plescop.fr
SUMMARY:Galette des rois le 25 janvier
DESCRIPTION:Inscription obligatoire \nLien vers Plate forme HelloAsso -Inscription et paiement en ligne \n 
URL:https://cyclo-plescop.fr/event/galette-des-rois-le-25-janvier/
LOCATION:Bar Allano Plescop
CATEGORIES:festif
ATTACH;FMTTYPE=image/jpeg:https://cyclo-plescop.fr/wp-content/uploads/2025/01/galette-rois.jpg
END:VEVENT
END:VCALENDAR