BEGIN:VCALENDAR
VERSION:2.0
PRODID:-//Amicale cyclo plescopaise - ECPv6.15.20//NONSGML v1.0//EN
CALSCALE:GREGORIAN
METHOD:PUBLISH
X-ORIGINAL-URL:https://cyclo-plescop.fr
X-WR-CALDESC:Évènements pour Amicale cyclo plescopaise
REFRESH-INTERVAL;VALUE=DURATION:PT1H
X-Robots-Tag:noindex
X-PUBLISHED-TTL:PT1H
BEGIN:VTIMEZONE
TZID:Europe/Paris
BEGIN:DAYLIGHT
TZOFFSETFROM:+0100
TZOFFSETTO:+0200
TZNAME:CEST
DTSTART:20250330T010000
END:DAYLIGHT
BEGIN:STANDARD
TZOFFSETFROM:+0200
TZOFFSETTO:+0100
TZNAME:CET
DTSTART:20251026T010000
END:STANDARD
BEGIN:DAYLIGHT
TZOFFSETFROM:+0100
TZOFFSETTO:+0200
TZNAME:CEST
DTSTART:20260329T010000
END:DAYLIGHT
BEGIN:STANDARD
TZOFFSETFROM:+0200
TZOFFSETTO:+0100
TZNAME:CET
DTSTART:20261025T010000
END:STANDARD
BEGIN:DAYLIGHT
TZOFFSETFROM:+0100
TZOFFSETTO:+0200
TZNAME:CEST
DTSTART:20270328T010000
END:DAYLIGHT
BEGIN:STANDARD
TZOFFSETFROM:+0200
TZOFFSETTO:+0100
TZNAME:CET
DTSTART:20271031T010000
END:STANDARD
END:VTIMEZONE
BEGIN:VEVENT
DTSTART;TZID=Europe/Paris:20260308T080000
DTEND;TZID=Europe/Paris:20260308T170000
DTSTAMP:20260425T011127
CREATED:20260206T104517Z
LAST-MODIFIED:20260206T131238Z
UID:14330-1772956800-1772989200@cyclo-plescop.fr
SUMMARY:Rando Muzillac
DESCRIPTION:Le Cyclo club de Muzillac organise le dimanche 08 mars une randonnée cycliste\n2 circuits 58 et 72 km vers la presqu’île de rhuys. \nplus d’informations ici 
URL:https://cyclo-plescop.fr/event/rando-muzillac/
CATEGORIES:Rando
END:VEVENT
END:VCALENDAR