BEGIN:VCALENDAR
VERSION:2.0
PRODID:-//Amicale cyclo plescopaise - ECPv6.15.20//NONSGML v1.0//EN
CALSCALE:GREGORIAN
METHOD:PUBLISH
X-WR-CALNAME:Amicale cyclo plescopaise
X-ORIGINAL-URL:https://cyclo-plescop.fr
X-WR-CALDESC:Évènements pour Amicale cyclo plescopaise
REFRESH-INTERVAL;VALUE=DURATION:PT1H
X-Robots-Tag:noindex
X-PUBLISHED-TTL:PT1H
BEGIN:VTIMEZONE
TZID:Europe/Paris
BEGIN:DAYLIGHT
TZOFFSETFROM:+0100
TZOFFSETTO:+0200
TZNAME:CEST
DTSTART:20250330T010000
END:DAYLIGHT
BEGIN:STANDARD
TZOFFSETFROM:+0200
TZOFFSETTO:+0100
TZNAME:CET
DTSTART:20251026T010000
END:STANDARD
BEGIN:DAYLIGHT
TZOFFSETFROM:+0100
TZOFFSETTO:+0200
TZNAME:CEST
DTSTART:20260329T010000
END:DAYLIGHT
BEGIN:STANDARD
TZOFFSETFROM:+0200
TZOFFSETTO:+0100
TZNAME:CET
DTSTART:20261025T010000
END:STANDARD
BEGIN:DAYLIGHT
TZOFFSETFROM:+0100
TZOFFSETTO:+0200
TZNAME:CEST
DTSTART:20270328T010000
END:DAYLIGHT
BEGIN:STANDARD
TZOFFSETFROM:+0200
TZOFFSETTO:+0100
TZNAME:CET
DTSTART:20271031T010000
END:STANDARD
END:VTIMEZONE
BEGIN:VEVENT
DTSTART;TZID=Europe/Paris:20260426T073000
DTEND;TZID=Europe/Paris:20260426T120000
DTSTAMP:20260421T103326
CREATED:20260414T162102Z
LAST-MODIFIED:20260414T162226Z
UID:14730-1777188600-1777204800@cyclo-plescop.fr
SUMMARY:La camorienne
DESCRIPTION:Randonnée vtt et marche le dimanche 26 avril 2026 à Camors :\n3 circuit vtt avec ravitaillements 20/30/40km et 2 circuits marche 10 et 15km \na l’arrivée la collations et la tombola \ninscriptions 5€ pour le vtt et 5€ pour la marche
URL:https://cyclo-plescop.fr/event/la-camorienne/
CATEGORIES:Rando
END:VEVENT
END:VCALENDAR